BEGIN:VCALENDAR
PRODID:NingEventWidget-v1
VERSION:2.0
METHOD:PUBLISH
BEGIN:VTIMEZONE
TZID:America/New_York
X-LIC-LOCATION:America/New_York
BEGIN:DAYLIGHT
TZOFFSETFROM:-0500
TZOFFSETTO:-0400
TZNAME:EDT
DTSTART:19700308T020000
RRULE:FREQ=YEARLY;BYMONTH=3;BYDAY=2SU
END:DAYLIGHT
BEGIN:STANDARD
TZOFFSETFROM:-0400
TZOFFSETTO:-0500
TZNAME:EST
DTSTART:19701101T020000
RRULE:FREQ=YEARLY;BYMONTH=11;BYDAY=1SU
END:STANDARD
END:VTIMEZONE
BEGIN:VEVENT
UID:2927079:Event:46987
DTSTAMP:20260420T110821Z
SUMMARY:Bad Behavior: A Positive Psychological/Social Approach- April 
 2, 2018
DESCRIPTION:TITLE: Bad Behavior: A Positive Psychological/Social Appro
 ach (Help Cool Your Nerves, Warm Your Heart)\r\nDATES: April 2, 2018\r
 \nLOCATION: Montclair State University, University Hall, ADP Center-Ro
 om 1145\r\nTIME: 9:00 AM-3:00 PM\r\nINSTRUCTOR: Michael Paternoster, M
 .A. Counseling and Director of Special Services (20 years)\r\nBehavior
  impacts us daily. Join me in discussing, analyzing, role-playing and 
 strategizing how to groom a positive environment as a way to decrease 
 problem behaviors. The outline is a three-prong-therapeutic hypothesis
 - 1. Understand the behavior, 2. Connect/Disengage, 3. Soothe via a si
 mplistic positive counseling style led by Mr. Paternoster, who has 40 
 years of experience with behavior problems and special education as a 
 counselor, teacher, administrator and disciplinarian in both private a
 nd public schools. The workshop attempts to be interactive, passionate
 , educational and dedicated to helping you, your institution and fello
 w human beings.\r\nAudience- Aides, Teachers, Counselors, Administrato
 rs, Business and anyone who works on a team.\r\nTO REGISTER, PLEASE CL
 ICK HERE\n\nFor more information visit https://msunernj.ning.com/event
 s/bad-behavior-a-positive-psychological-social-approach-april-2-201
DTSTART;TZID=America/New_York:20180402T090000
DTEND;TZID=America/New_York:20180402T150000
CATEGORIES:teachers, as, scholars
LOCATION:Montclair State University- University Hall- ADP Center, Room
  1145
WEBSITE:
URL:
CONTACT:
ORGANIZER;CN="Kristin Armato":https://msunernj.ning.com/profile/Kristi
 nArmato
ATTACH;FMTTYPE="image/jpeg":
ATTENDEE;ROLE=REQ-PARTICIPANT;PARTSTAT=ACCEPTED;RSVP=TRUE;CN="Kristin 
 Armato":https://msunernj.ning.com/profile/KristinArmato
END:VEVENT
END:VCALENDAR
